BEGIN:VCALENDAR
VERSION:2.0
PRODID:-//forum d’architectures de Lausanne
 //NONSGML Events //EN
CALSCALE:GREGORIAN
X-WR-CALNAME:forum d’architectures de Lausanne
BEGIN:VEVENT
CREATED:20241120T184244Z
UID:1107
DTEND;VALUE=DATE:20241208
DTSTART;VALUE=DATE:20241127
DTSTAMP:20260420T102235Z
LOCATION:
DESCRIPTION:<strong> Collège de la Sallaz - Extension</strong> Nouvelle construction pour la création de classes supplémentaires, d'un accueil parascolaire et 
SUMMARY: Collège de la Sallaz – Extension
ORGANIZER:FAR - Forum d&#039\;architectures\, Lausanne
URL;VALUE=URI:https://www.archi-far.ch/evenement/college-de-la-sallaz-extension/
TRANSP:OPAQUE
BEGIN:VALARM
ACTION:DISPLAY
TRIGGER;VALUE=DATE-TIME:27/11/2024
DESCRIPTION:Reminder for Collège de la Sallaz &#8211\; Extension
END:VALARM
END:VEVENT
END:VCALENDAR
